BEGIN:VCALENDAR
VERSION:2.0
BEGIN:VEVENT
PRODID:-//EventsAdmin//EN
UID:83f4211e-d921-43ae-a2bd-d1146701f59f@eventsadmin.com
DTSTAMP:20260425T233715Z
TRANSP:TRANSPARENT
DTSTART:20230118T100000
DTEND:20230118T180000
SUMMARY;ENCODING=QUOTED-PRINTABLE:6ο Συνέδριο Ηλεκτροκίνησης
LOCATION;ENCODING=QUOTED-PRINTABLE:Ελληνικό Μουσείο Αυτοκινήτου
DESCRIPTION;ENCODING=QUOTED-PRINTABLE:Το μεγαλύτερο Συνέδριο για την Ηλεκτροκίνηση συνδιοργανώνεται από την Ελληνική Εταιρεία Ενεργειακής Οικονομίας (HAEE), και το Insider.gr και έρχεται για 6η συνεχόμενη χρονιά να φωτίσει τη δυναμική, τις προκλήσεις, αλλά και τις ευκαιρίες του τομέα της πράσινης και βιώσιμης μετακίνησης στην Ελλάδα, την Τετάρτη, 18 Ιανουαρίου 2023, στο Ελληνικό Μουσείο Αυτοκινήτου.=0D=0AΚαθώς η Γηραιά Ήπειρος στοχεύει στην επίτευξη της κλιματικής ουδετερότητας έως το 2050, και στα πλαίσια της αντιμετώπισης των ορατών πλέον επιπτ
END:VEVENT
END:VCALENDAR
